BEGIN:VCALENDAR
VERSION:2.0
PRODID:-//Leichtathletik Lauta - ECPv6.15.20//NONSGML v1.0//EN
CALSCALE:GREGORIAN
METHOD:PUBLISH
X-ORIGINAL-URL:https://www.leichtathletik-lauta.de
X-WR-CALDESC:Veranstaltungen für Leichtathletik Lauta
REFRESH-INTERVAL;VALUE=DURATION:PT1H
X-Robots-Tag:noindex
X-PUBLISHED-TTL:PT1H
BEGIN:VTIMEZONE
TZID:Europe/Helsinki
BEGIN:DAYLIGHT
TZOFFSETFROM:+0200
TZOFFSETTO:+0300
TZNAME:EEST
DTSTART:20230326T010000
END:DAYLIGHT
BEGIN:STANDARD
TZOFFSETFROM:+0300
TZOFFSETTO:+0200
TZNAME:EET
DTSTART:20231029T010000
END:STANDARD
BEGIN:DAYLIGHT
TZOFFSETFROM:+0200
TZOFFSETTO:+0300
TZNAME:EEST
DTSTART:20240331T010000
END:DAYLIGHT
BEGIN:STANDARD
TZOFFSETFROM:+0300
TZOFFSETTO:+0200
TZNAME:EET
DTSTART:20241027T010000
END:STANDARD
BEGIN:DAYLIGHT
TZOFFSETFROM:+0200
TZOFFSETTO:+0300
TZNAME:EEST
DTSTART:20250330T010000
END:DAYLIGHT
BEGIN:STANDARD
TZOFFSETFROM:+0300
TZOFFSETTO:+0200
TZNAME:EET
DTSTART:20251026T010000
END:STANDARD
END:VTIMEZONE
BEGIN:VEVENT
DTSTART;VALUE=DATE:20241214
DTEND;VALUE=DATE:20241215
DTSTAMP:20260422T003303
CREATED:20241018T172105Z
LAST-MODIFIED:20241029T130604Z
UID:13037-1734134400-1734220799@www.leichtathletik-lauta.de
SUMMARY:Normenwettkampf für Saison 2025
DESCRIPTION:Normenwettkampf Saison 2025\nAn einem Normenwettkampf am Samstag\, den 14.12 2024 in Potsdam werden teilnehmen:\nTom AK 15m\nLucy AK 15w\nNela AK 16w \nZiel ist es hierbei\, vorgegebene Normen zur Teilnahme an Sächsischen- wie auch Mitteldeutschen Meisterschaften der Saison 2025 zu erreichen. \nErgebnisse nach Wettkampfabschluss ersichtlich auf „ladv.de“
URL:https://www.leichtathletik-lauta.de/event/normenwettkampf-saison-2025/
LOCATION:Potsdam\, Potsdam\, Brandenburg
ATTACH;FMTTYPE=image/jpeg:https://www.leichtathletik-lauta.de/wp-content/uploads/2014/10/20140621-_DSF3424.jpg
END:VEVENT
END:VCALENDAR