BEGIN:VCALENDAR
VERSION:2.0
PRODID:-//Leichtathletik Lauta - ECPv6.15.20//NONSGML v1.0//EN
CALSCALE:GREGORIAN
METHOD:PUBLISH
X-ORIGINAL-URL:https://www.leichtathletik-lauta.de
X-WR-CALDESC:Veranstaltungen für Leichtathletik Lauta
REFRESH-INTERVAL;VALUE=DURATION:PT1H
X-Robots-Tag:noindex
X-PUBLISHED-TTL:PT1H
BEGIN:VTIMEZONE
TZID:Europe/Helsinki
BEGIN:DAYLIGHT
TZOFFSETFROM:+0200
TZOFFSETTO:+0300
TZNAME:EEST
DTSTART:20240331T010000
END:DAYLIGHT
BEGIN:STANDARD
TZOFFSETFROM:+0300
TZOFFSETTO:+0200
TZNAME:EET
DTSTART:20241027T010000
END:STANDARD
BEGIN:DAYLIGHT
TZOFFSETFROM:+0200
TZOFFSETTO:+0300
TZNAME:EEST
DTSTART:20250330T010000
END:DAYLIGHT
BEGIN:STANDARD
TZOFFSETFROM:+0300
TZOFFSETTO:+0200
TZNAME:EET
DTSTART:20251026T010000
END:STANDARD
BEGIN:DAYLIGHT
TZOFFSETFROM:+0200
TZOFFSETTO:+0300
TZNAME:EEST
DTSTART:20260329T010000
END:DAYLIGHT
BEGIN:STANDARD
TZOFFSETFROM:+0300
TZOFFSETTO:+0200
TZNAME:EET
DTSTART:20261025T010000
END:STANDARD
END:VTIMEZONE
BEGIN:VEVENT
DTSTART;TZID=Europe/Helsinki:20250503T080000
DTEND;TZID=Europe/Helsinki:20250503T170000
DTSTAMP:20260420T074048
CREATED:20250214T155506Z
LAST-MODIFIED:20250214T161901Z
UID:13625-1746259200-1746291600@www.leichtathletik-lauta.de
SUMMARY:LM-Blockmehrkampf 2025
DESCRIPTION:LM-Blockmehrkampf 2025\nDer Blockmehrkampf Wurf besteht aus den Disziplinen 100m\, 80m Hürden Weitsprung\, Kugelstoßen und Diskuswerfen. \nZur Landesmeisterschaft im Blockmehrkampf Wurf der Altersklasse U 16 in Großenhain werden voraussichtlich starten:\nLucy Paul AK U16 W15\nTom Zahn AK U16 M15 \nViel Glück ! \nAlle Ergebnisse ersichtlich auf ladv.de“
URL:https://www.leichtathletik-lauta.de/event/lm-blockmehrkampf-2025/
LOCATION:Großenhain\, Großenhain\, Sachsen\, Deutschland
ATTACH;FMTTYPE=image/jpeg:https://www.leichtathletik-lauta.de/wp-content/uploads/2014/10/20140920-_MG_0337.jpg
ORGANIZER;CN="LV Sachsen":MAILTO:lvsachsen.de
END:VEVENT
BEGIN:VEVENT
DTSTART;TZID=Europe/Helsinki:20250503T080000
DTEND;TZID=Europe/Helsinki:20250503T170000
DTSTAMP:20260420T074048
CREATED:20250323T162208Z
LAST-MODIFIED:20250323T162859Z
UID:13690-1746259200-1746291600@www.leichtathletik-lauta.de
SUMMARY:OSM - Mehrkampf 2025
DESCRIPTION:OSM – Mehrkampf 2025\nDer regionale OSM – Mehrkampf 2025 der Altersklassen U12 und U14 wird nunmehr am Samstag\, den 03.05.2025 in Großenhain ausgetragen. \nDies erfolgt gemeinsam mit den Landesmeisterschaften im Blockmehrkampf der Altersklasse U16 und wurde durch den sächsischen Landesverband ziemlich spät entschieden. Gleichzeitig ist die Teilnahme an diesem Wettkampf Grundvoraussetzung für die Teilnahme an den Sächsischen Landesmeisterschaften  der U14. \nDeshalb werden für unsere Sportgemeinschaft an diesem regionalem Mehrkampf nur Mialena und Luna teilnehmen\, da beide Sportlerinnen große Aussichten zur Erfüllung der hohen Teilnahmenormen der Landesmeisterschaften haben. \nAlso Mialena und Luna\nGute Leistungen\, hohe Punktzahl und viel Spaß! \nAlle Ergebnisse nach Abschluss des Wettkampfes ersichtlich auf ladv.de“
URL:https://www.leichtathletik-lauta.de/event/osm-mehrkampf-2025/
LOCATION:Großenhain\, Großenhain\, Sachsen\, Deutschland
CATEGORIES:Ostsächsische Regionalmeisterschaft
ATTACH;FMTTYPE=image/jpeg:https://www.leichtathletik-lauta.de/wp-content/uploads/2014/10/20140621-_MG_7421.jpg
ORGANIZER;CN="LV Sachsen":MAILTO:lvsachsen.de
END:VEVENT
END:VCALENDAR