BEGIN:VCALENDAR
VERSION:2.0
PRODID:-//Leichtathletik Lauta - ECPv6.15.20//NONSGML v1.0//EN
CALSCALE:GREGORIAN
METHOD:PUBLISH
X-ORIGINAL-URL:https://www.leichtathletik-lauta.de
X-WR-CALDESC:Veranstaltungen für Leichtathletik Lauta
REFRESH-INTERVAL;VALUE=DURATION:PT1H
X-Robots-Tag:noindex
X-PUBLISHED-TTL:PT1H
BEGIN:VTIMEZONE
TZID:Europe/Helsinki
BEGIN:DAYLIGHT
TZOFFSETFROM:+0200
TZOFFSETTO:+0300
TZNAME:EEST
DTSTART:20240331T010000
END:DAYLIGHT
BEGIN:STANDARD
TZOFFSETFROM:+0300
TZOFFSETTO:+0200
TZNAME:EET
DTSTART:20241027T010000
END:STANDARD
BEGIN:DAYLIGHT
TZOFFSETFROM:+0200
TZOFFSETTO:+0300
TZNAME:EEST
DTSTART:20250330T010000
END:DAYLIGHT
BEGIN:STANDARD
TZOFFSETFROM:+0300
TZOFFSETTO:+0200
TZNAME:EET
DTSTART:20251026T010000
END:STANDARD
BEGIN:DAYLIGHT
TZOFFSETFROM:+0200
TZOFFSETTO:+0300
TZNAME:EEST
DTSTART:20260329T010000
END:DAYLIGHT
BEGIN:STANDARD
TZOFFSETFROM:+0300
TZOFFSETTO:+0200
TZNAME:EET
DTSTART:20261025T010000
END:STANDARD
END:VTIMEZONE
BEGIN:VEVENT
DTSTART;TZID=Europe/Helsinki:20250510T100000
DTEND;TZID=Europe/Helsinki:20250510T140000
DTSTAMP:20260420T074010
CREATED:20250311T135050Z
LAST-MODIFIED:20250323T162519Z
UID:13670-1746871200-1746885600@www.leichtathletik-lauta.de
SUMMARY:10.05.25 KM Wurf
DESCRIPTION:KM Wurf am 10.05.25 in Hoyerswerda\nAm Samstag\, den 10.05.2025 wird in Hoyerswerda die KM Wurf ausgetragen. Dieser Wettkampf hat bereits eine lange Tradition. \nWie auch im Jahr 2023 (siehe dazu den Artikel „KM Wurf 2024„) sollen auch in diesem Jahr Bestleistungen purzeln und Medaillen errungen werden.\nAus Lautaer Sicht werden starten:\nLeon AK U18\nNela AK U18\nTom AK U16 M15\nLucy AK U16 W15\nMialena AK U14 W13\nLuna AK U14 W12
URL:https://www.leichtathletik-lauta.de/event/10-05-25-km-wurf/
LOCATION:Hoyerswerda\, Stadion am FKO\, Hoyerswerda\, Sachsen\, 02977\, Deutschland
CATEGORIES:Kreismeisterschaft,Wettkampf
ATTACH;FMTTYPE=image/jpeg:https://www.leichtathletik-lauta.de/wp-content/uploads/2024/05/IMG_20240506_091834.jpg
END:VEVENT
END:VCALENDAR