BEGIN:VCALENDAR
VERSION:2.0
PRODID:-//Leichtathletik Lauta - ECPv6.15.20//NONSGML v1.0//EN
CALSCALE:GREGORIAN
METHOD:PUBLISH
X-WR-CALNAME:Leichtathletik Lauta
X-ORIGINAL-URL:https://www.leichtathletik-lauta.de
X-WR-CALDESC:Veranstaltungen für Leichtathletik Lauta
REFRESH-INTERVAL;VALUE=DURATION:PT1H
X-Robots-Tag:noindex
X-PUBLISHED-TTL:PT1H
BEGIN:VTIMEZONE
TZID:Europe/Helsinki
BEGIN:DAYLIGHT
TZOFFSETFROM:+0200
TZOFFSETTO:+0300
TZNAME:EEST
DTSTART:20250330T010000
END:DAYLIGHT
BEGIN:STANDARD
TZOFFSETFROM:+0300
TZOFFSETTO:+0200
TZNAME:EET
DTSTART:20251026T010000
END:STANDARD
BEGIN:DAYLIGHT
TZOFFSETFROM:+0200
TZOFFSETTO:+0300
TZNAME:EEST
DTSTART:20260329T010000
END:DAYLIGHT
BEGIN:STANDARD
TZOFFSETFROM:+0300
TZOFFSETTO:+0200
TZNAME:EET
DTSTART:20261025T010000
END:STANDARD
BEGIN:DAYLIGHT
TZOFFSETFROM:+0200
TZOFFSETTO:+0300
TZNAME:EEST
DTSTART:20270328T010000
END:DAYLIGHT
BEGIN:STANDARD
TZOFFSETFROM:+0300
TZOFFSETTO:+0200
TZNAME:EET
DTSTART:20271031T010000
END:STANDARD
END:VTIMEZONE
BEGIN:VEVENT
DTSTART;TZID=Europe/Helsinki:20260111T100000
DTEND;TZID=Europe/Helsinki:20260111T160000
DTSTAMP:20260419T170529
CREATED:20251114T161105Z
LAST-MODIFIED:20251130T135222Z
UID:14436-1768125600-1768147200@www.leichtathletik-lauta.de
SUMMARY:Großartig Hallenmeeting Cottbus 2026
DESCRIPTION:Hallenmeeting in Cottbus \nZum deutsch-polnischen Hallenmeeting Cottbus am 11.01.2026 werden 3 Lautaer Leichtathleten an den Start gehen. \nTom Zahn AK U18 – 60m\, 200m\nLucy Paul AK U18 – Kugel\nMialena Preuß – AK U16-14w – Kugel \nSie werden versuchen\, gestellte Normen zur Teilnahme an den Hallen-Landesmeisterschaften Sachsen am 17. und 18. Januar 2026 in Chemnitz zu erreichen. \nViel Glück !\nAlle Ergebnisse werden auf der folgenden Seite ersichtlich sein: ladv.de“ 
URL:https://www.leichtathletik-lauta.de/event/hallenmeeting-cottbus-2026/
LOCATION:Cottbus\, Dresdener Straße 18\, Cottbus\, Brandenburg\, 03050\, Deutschland
ATTACH;FMTTYPE=image/jpeg:https://www.leichtathletik-lauta.de/wp-content/uploads/2014/10/20140920-_MG_0337.jpg
ORGANIZER;CN="LC Cottbus":MAILTO:lc-cottbus@t-online.de
END:VEVENT
END:VCALENDAR