BEGIN:VCALENDAR
VERSION:2.0
PRODID:-//Leichtathletik Lauta - ECPv6.15.20//NONSGML v1.0//EN
CALSCALE:GREGORIAN
METHOD:PUBLISH
X-ORIGINAL-URL:https://www.leichtathletik-lauta.de
X-WR-CALDESC:Veranstaltungen für Leichtathletik Lauta
REFRESH-INTERVAL;VALUE=DURATION:PT1H
X-Robots-Tag:noindex
X-PUBLISHED-TTL:PT1H
BEGIN:VTIMEZONE
TZID:Europe/Helsinki
BEGIN:DAYLIGHT
TZOFFSETFROM:+0200
TZOFFSETTO:+0300
TZNAME:EEST
DTSTART:20250330T010000
END:DAYLIGHT
BEGIN:STANDARD
TZOFFSETFROM:+0300
TZOFFSETTO:+0200
TZNAME:EET
DTSTART:20251026T010000
END:STANDARD
BEGIN:DAYLIGHT
TZOFFSETFROM:+0200
TZOFFSETTO:+0300
TZNAME:EEST
DTSTART:20260329T010000
END:DAYLIGHT
BEGIN:STANDARD
TZOFFSETFROM:+0300
TZOFFSETTO:+0200
TZNAME:EET
DTSTART:20261025T010000
END:STANDARD
BEGIN:DAYLIGHT
TZOFFSETFROM:+0200
TZOFFSETTO:+0300
TZNAME:EEST
DTSTART:20270328T010000
END:DAYLIGHT
BEGIN:STANDARD
TZOFFSETFROM:+0300
TZOFFSETTO:+0200
TZNAME:EET
DTSTART:20271031T010000
END:STANDARD
END:VTIMEZONE
BEGIN:VEVENT
DTSTART;TZID=Europe/Helsinki:20260117T100000
DTEND;TZID=Europe/Helsinki:20260117T170000
DTSTAMP:20260419T170557
CREATED:20251114T163007Z
LAST-MODIFIED:20251130T135545Z
UID:14443-1768644000-1768669200@www.leichtathletik-lauta.de
SUMMARY:Angriff Hallenlandesmeisterschaft 2026
DESCRIPTION:Hallenlandesmeisterschaft 2026 Sachsen\nDie Hallenlandesmeisterschaft 2026 des Landes Sachsen wird am Wochenende 17. und 18. Januar 2026 in Chemnitz ausgetragen. \nZu diesem Event werden aus Sicht unserer Sportgemeinschaft 3 Athleten an den Start gehen.\nTom Zahn AK U18 – 60m\, 400m\, 200m\nLucy Paul AK U18 – Kugel\nMialena Preuß – AK U16-14w – Kugel \nSie werden versuchen\, einen hervorragenden Platz unter den besten zehn Sportlern ihrer Altersklasse zu belegen und mit ein wenig Glück vielleicht auch in die Medaillenvergabe bei diesen Meisterschaften einzugreifen. \nViel Spaß !\nAlle Ergebnisse werden auf der folgenden Seite ersichtlich sein: ladv.de“ 
URL:https://www.leichtathletik-lauta.de/event/hallenlandesmeisterschaft-2026/
LOCATION:Chemnitz\, Chemnitz\, Sachsen\, 09125\, Deutschland
ATTACH;FMTTYPE=image/jpeg:https://www.leichtathletik-lauta.de/wp-content/uploads/2025/01/IMG_20250119_160028.jpg
ORGANIZER;CN="LV Sachsen":MAILTO:lvsachsen.de
END:VEVENT
END:VCALENDAR