BEGIN:VCALENDAR
VERSION:2.0
PRODID:-//Leichtathletik Lauta - ECPv6.15.20//NONSGML v1.0//EN
CALSCALE:GREGORIAN
METHOD:PUBLISH
X-WR-CALNAME:Leichtathletik Lauta
X-ORIGINAL-URL:https://www.leichtathletik-lauta.de
X-WR-CALDESC:Veranstaltungen für Leichtathletik Lauta
REFRESH-INTERVAL;VALUE=DURATION:PT1H
X-Robots-Tag:noindex
X-PUBLISHED-TTL:PT1H
BEGIN:VTIMEZONE
TZID:Europe/Helsinki
BEGIN:DAYLIGHT
TZOFFSETFROM:+0200
TZOFFSETTO:+0300
TZNAME:EEST
DTSTART:20220327T010000
END:DAYLIGHT
BEGIN:STANDARD
TZOFFSETFROM:+0300
TZOFFSETTO:+0200
TZNAME:EET
DTSTART:20221030T010000
END:STANDARD
BEGIN:DAYLIGHT
TZOFFSETFROM:+0200
TZOFFSETTO:+0300
TZNAME:EEST
DTSTART:20230326T010000
END:DAYLIGHT
BEGIN:STANDARD
TZOFFSETFROM:+0300
TZOFFSETTO:+0200
TZNAME:EET
DTSTART:20231029T010000
END:STANDARD
BEGIN:DAYLIGHT
TZOFFSETFROM:+0200
TZOFFSETTO:+0300
TZNAME:EEST
DTSTART:20240331T010000
END:DAYLIGHT
BEGIN:STANDARD
TZOFFSETFROM:+0300
TZOFFSETTO:+0200
TZNAME:EET
DTSTART:20241027T010000
END:STANDARD
END:VTIMEZONE
BEGIN:VEVENT
DTSTART;TZID=Europe/Helsinki:20230507T090000
DTEND;TZID=Europe/Helsinki:20230507T160000
DTSTAMP:20260422T150333
CREATED:20221213T125858Z
LAST-MODIFIED:20230419T153439Z
UID:11361-1683450000-1683475200@www.leichtathletik-lauta.de
SUMMARY:Kreismeisterschaft Mehrkampf
DESCRIPTION:Kreismeisterschaft Mehrkampf\nDie Kreismeisterschaft Mehrkampf in Großröhrsdorf ist der Einstieg in die neue Freiluftsaison 2023 für unsere Leichtathleten.Es werden starten: Tom AK 13m\, Lucy Ak 13w\, Mialena AK 11w\, Luna AK 10w\, Magdalena AK 9w und Miklas AK 8m
URL:https://www.leichtathletik-lauta.de/event/kreismeisterschaft-mehrkampf-2/
LOCATION:Großröhrsdorf\, Großröhrsdorf\, Sachsen\, Deutschland
CATEGORIES:Kreismeisterschaft
ATTACH;FMTTYPE=image/jpeg:https://www.leichtathletik-lauta.de/wp-content/uploads/2019/05/10-Siegerehrung-Gesamt-1.jpg
END:VEVENT
END:VCALENDAR