BEGIN:VCALENDAR
VERSION:2.0
PRODID:-//Leichtathletik Lauta - ECPv6.15.20//NONSGML v1.0//EN
CALSCALE:GREGORIAN
METHOD:PUBLISH
X-WR-CALNAME:Leichtathletik Lauta
X-ORIGINAL-URL:https://www.leichtathletik-lauta.de
X-WR-CALDESC:Veranstaltungen für Leichtathletik Lauta
REFRESH-INTERVAL;VALUE=DURATION:PT1H
X-Robots-Tag:noindex
X-PUBLISHED-TTL:PT1H
BEGIN:VTIMEZONE
TZID:Europe/Helsinki
BEGIN:DAYLIGHT
TZOFFSETFROM:+0200
TZOFFSETTO:+0300
TZNAME:EEST
DTSTART:20230326T010000
END:DAYLIGHT
BEGIN:STANDARD
TZOFFSETFROM:+0300
TZOFFSETTO:+0200
TZNAME:EET
DTSTART:20231029T010000
END:STANDARD
BEGIN:DAYLIGHT
TZOFFSETFROM:+0200
TZOFFSETTO:+0300
TZNAME:EEST
DTSTART:20240331T010000
END:DAYLIGHT
BEGIN:STANDARD
TZOFFSETFROM:+0300
TZOFFSETTO:+0200
TZNAME:EET
DTSTART:20241027T010000
END:STANDARD
BEGIN:DAYLIGHT
TZOFFSETFROM:+0200
TZOFFSETTO:+0300
TZNAME:EEST
DTSTART:20250330T010000
END:DAYLIGHT
BEGIN:STANDARD
TZOFFSETFROM:+0300
TZOFFSETTO:+0200
TZNAME:EET
DTSTART:20251026T010000
END:STANDARD
END:VTIMEZONE
BEGIN:VEVENT
DTSTART;TZID=Europe/Helsinki:20241130T093000
DTEND;TZID=Europe/Helsinki:20241130T140000
DTSTAMP:20260421T093515
CREATED:20241002T161725Z
LAST-MODIFIED:20241112T143335Z
UID:13024-1732959000-1732975200@www.leichtathletik-lauta.de
SUMMARY:Nikolaus-Sportfest 2024
DESCRIPTION:Nikolaus-Sportfest 2024\nDie Hallen-Kreismeisterschaft (Nikolaus-Sportfest) wird als Mehrkampf-Event am Samstag\, den 30.11.2024 in Bischofwerda ausgetragen. \nFür alle Sportler von 8 bis 13 Jahren stehen dabei die athletischen Disziplinen 30m-Sprint\, Seilspringen\, Dreierhopp\, Schlängellauf\, Medizinschocken und Aufroller auf einer Schrägbank im Mittelpunkt. Alle Leichtathleten der genannten Altersklassen sollten sich für diesen Wettkampf begeistern und können sich über die Eltern für einen Start anmelden. Späteste Anmeldung bitte über Watts App  der Leichtathletik-Gruppe an Frau Meuche bis Donnerstag\, den 21.11.2024. \nGemeinsame Abfahrt nach Bischofswerda:\n07.30 Uhr Aldi-Parkplatz Torno. \nWettkampf-Beginn:\n09.00 Uhr \nWettkampf-Ende :\nca. 13.30 Uhr \n  \nErgebnisse nach Wettkampfabschluss über eine Auswertung durch die Trainer oder ersichtlich auf „ladv.de“
URL:https://www.leichtathletik-lauta.de/event/nikolaus-sportfest-2024/
LOCATION:Bischofswerda\, Bischofwerda\, Sachsen\, Deutschland
CATEGORIES:Kreismeisterschaft
ATTACH;FMTTYPE=image/jpeg:https://www.leichtathletik-lauta.de/wp-content/uploads/2023/12/Beginn-20231202_081657.jpg
END:VEVENT
END:VCALENDAR