BEGIN:VCALENDAR
VERSION:2.0
PRODID:-//Leichtathletik Lauta - ECPv6.15.20//NONSGML v1.0//EN
CALSCALE:GREGORIAN
METHOD:PUBLISH
X-WR-CALNAME:Leichtathletik Lauta
X-ORIGINAL-URL:https://www.leichtathletik-lauta.de
X-WR-CALDESC:Veranstaltungen für Leichtathletik Lauta
REFRESH-INTERVAL;VALUE=DURATION:PT1H
X-Robots-Tag:noindex
X-PUBLISHED-TTL:PT1H
BEGIN:VTIMEZONE
TZID:Europe/Helsinki
BEGIN:DAYLIGHT
TZOFFSETFROM:+0200
TZOFFSETTO:+0300
TZNAME:EEST
DTSTART:20220327T010000
END:DAYLIGHT
BEGIN:STANDARD
TZOFFSETFROM:+0300
TZOFFSETTO:+0200
TZNAME:EET
DTSTART:20221030T010000
END:STANDARD
BEGIN:DAYLIGHT
TZOFFSETFROM:+0200
TZOFFSETTO:+0300
TZNAME:EEST
DTSTART:20230326T010000
END:DAYLIGHT
BEGIN:STANDARD
TZOFFSETFROM:+0300
TZOFFSETTO:+0200
TZNAME:EET
DTSTART:20231029T010000
END:STANDARD
BEGIN:DAYLIGHT
TZOFFSETFROM:+0200
TZOFFSETTO:+0300
TZNAME:EEST
DTSTART:20240331T010000
END:DAYLIGHT
BEGIN:STANDARD
TZOFFSETFROM:+0300
TZOFFSETTO:+0200
TZNAME:EET
DTSTART:20241027T010000
END:STANDARD
END:VTIMEZONE
BEGIN:VEVENT
DTSTART;TZID=Europe/Helsinki:20230618T093000
DTEND;TZID=Europe/Helsinki:20230618T173000
DTSTAMP:20260425T184344
CREATED:20230419T145331Z
LAST-MODIFIED:20230419T145532Z
UID:11607-1687080600-1687109400@www.leichtathletik-lauta.de
SUMMARY:Ostsächsische Meisterschaft
DESCRIPTION:Die Ostsächsische Meisterschaft\nDie Ostsächsische Meisterschaft in den Einzeldisziplinen wird am Sonntag\, den 18.06.2023 in Zittau ausgetragen.\nFür unseren Verein werden starten: Nela AK14w\, Tom AK 13m\, Lucy AK13w\, Mialena Ak 11w und Luna AK 10w
URL:https://www.leichtathletik-lauta.de/event/ostsaechsische-meisterschaft-2/
LOCATION:Zittau\, Weinauparkstadion – Weinaupark 4\, Zittau\, Sachsen\, 02763
CATEGORIES:Ostsächsische Regionalmeisterschaft
ATTACH;FMTTYPE=image/jpeg:https://www.leichtathletik-lauta.de/wp-content/uploads/2014/10/20140920-_MG_0297.jpg
END:VEVENT
BEGIN:VEVENT
DTSTART;VALUE=DATE:20230623
DTEND;VALUE=DATE:20230626
DTSTAMP:20260425T184344
CREATED:20230419T151851Z
LAST-MODIFIED:20230419T152718Z
UID:11618-1687478400-1687737599@www.leichtathletik-lauta.de
SUMMARY:Landesmeisterschaft Sachsen
DESCRIPTION:Landesmeisterschaft Sachsen\nDie Landesmeisterschaft Sachsen wird von Freitag\, den 23.06. bis Sonntag\, den 25.06.2023 in Dresden ausgetragen.\nEin Start für unsere Sportgemeinschaft ist vorgesehen für: Nela AK14w\, Tom AK 13m und Lucy AK 13w nach Erreichen einer Qualifikationsnorm in den einzelnen Disziplinen.
URL:https://www.leichtathletik-lauta.de/event/landesmeisterschaft-sachsen-2/
LOCATION:Dresden\, DSC Halle - Magdeburger Straße 6\, Dresden\, Sachsen
CATEGORIES:Landesmeisterschaft Sachsen
ATTACH;FMTTYPE=image/jpeg:https://www.leichtathletik-lauta.de/wp-content/uploads/2014/10/20140920-_MG_0337.jpg
ORGANIZER;CN="LV Sachsen":MAILTO:lvsachsen.de
END:VEVENT
BEGIN:VEVENT
DTSTART;TZID=Europe/Helsinki:20230628T153000
DTEND;TZID=Europe/Helsinki:20230628T193000
DTSTAMP:20260425T184344
CREATED:20230625T085606Z
LAST-MODIFIED:20230625T085606Z
UID:11861-1687966200-1687980600@www.leichtathletik-lauta.de
SUMMARY:28.06.23 - Stadtmeisterschaft Hoyersweda
DESCRIPTION:Start zur Stadtmeisterschaft Hoyerswerda im Mehrkampf\n2 Athleten unserer Sportgemeinschaft werden zu den Stadtmeisterschaften Hoyerswerda im Mehrkampf starten. \nViel Spaß aber auch Erfolg Tom und Luna! \n 
URL:https://www.leichtathletik-lauta.de/event/28-06-23-stadtmeisterschaft/
LOCATION:Hoyerswerda\, Stadion am FKO\, Hoyerswerda\, Sachsen\, 02977\, Deutschland
CATEGORIES:Saisonabschluss,Wettkampf
ATTACH;FMTTYPE=image/jpeg:https://www.leichtathletik-lauta.de/wp-content/uploads/2014/06/Bannerfotos_Pokale.jpg
END:VEVENT
END:VCALENDAR