BEGIN:VCALENDAR
VERSION:2.0
PRODID:-//Leichtathletik Lauta - ECPv6.15.20//NONSGML v1.0//EN
CALSCALE:GREGORIAN
METHOD:PUBLISH
X-ORIGINAL-URL:https://www.leichtathletik-lauta.de
X-WR-CALDESC:Veranstaltungen für Leichtathletik Lauta
REFRESH-INTERVAL;VALUE=DURATION:PT1H
X-Robots-Tag:noindex
X-PUBLISHED-TTL:PT1H
BEGIN:VTIMEZONE
TZID:Europe/Helsinki
BEGIN:DAYLIGHT
TZOFFSETFROM:+0200
TZOFFSETTO:+0300
TZNAME:EEST
DTSTART:20220327T010000
END:DAYLIGHT
BEGIN:STANDARD
TZOFFSETFROM:+0300
TZOFFSETTO:+0200
TZNAME:EET
DTSTART:20221030T010000
END:STANDARD
BEGIN:DAYLIGHT
TZOFFSETFROM:+0200
TZOFFSETTO:+0300
TZNAME:EEST
DTSTART:20230326T010000
END:DAYLIGHT
BEGIN:STANDARD
TZOFFSETFROM:+0300
TZOFFSETTO:+0200
TZNAME:EET
DTSTART:20231029T010000
END:STANDARD
BEGIN:DAYLIGHT
TZOFFSETFROM:+0200
TZOFFSETTO:+0300
TZNAME:EEST
DTSTART:20240331T010000
END:DAYLIGHT
BEGIN:STANDARD
TZOFFSETFROM:+0300
TZOFFSETTO:+0200
TZNAME:EET
DTSTART:20241027T010000
END:STANDARD
END:VTIMEZONE
BEGIN:VEVENT
DTSTART;TZID=Europe/Helsinki:20230524T160000
DTEND;TZID=Europe/Helsinki:20230524T200000
DTSTAMP:20260423T043836
CREATED:20230516T091146Z
LAST-MODIFIED:20230516T103458Z
UID:11707-1684944000-1684958400@www.leichtathletik-lauta.de
SUMMARY:Bonus Abendsportfest Cottbus
DESCRIPTION:Bonus Abendsportfest in Cottbus\nzum Bonus Abendsportfest am 24.05.2023 in Cottbus werden starten:\nTom – AK 13m (60m Hürden\, 75m Sprint)\nNela – AK 14w (Diskuswurf)
URL:https://www.leichtathletik-lauta.de/event/bonus-abendsportfest-cottbus/
LOCATION:Cottbus\, Dresdener Straße 18\, Cottbus\, Brandenburg\, 03050\, Deutschland
CATEGORIES:Wettkampf
ATTACH;FMTTYPE=image/jpeg:https://www.leichtathletik-lauta.de/wp-content/uploads/2014/09/01-Collage.jpg
ORGANIZER;CN="LC Cottbus":MAILTO:lc-cottbus@t-online.de
END:VEVENT
END:VCALENDAR