BEGIN:VCALENDAR
VERSION:2.0
PRODID:-//Leichtathletik Lauta - ECPv6.15.20//NONSGML v1.0//EN
CALSCALE:GREGORIAN
METHOD:PUBLISH
X-ORIGINAL-URL:https://www.leichtathletik-lauta.de
X-WR-CALDESC:Veranstaltungen für Leichtathletik Lauta
REFRESH-INTERVAL;VALUE=DURATION:PT1H
X-Robots-Tag:noindex
X-PUBLISHED-TTL:PT1H
BEGIN:VTIMEZONE
TZID:Europe/Helsinki
BEGIN:DAYLIGHT
TZOFFSETFROM:+0200
TZOFFSETTO:+0300
TZNAME:EEST
DTSTART:20220327T010000
END:DAYLIGHT
BEGIN:STANDARD
TZOFFSETFROM:+0300
TZOFFSETTO:+0200
TZNAME:EET
DTSTART:20221030T010000
END:STANDARD
BEGIN:DAYLIGHT
TZOFFSETFROM:+0200
TZOFFSETTO:+0300
TZNAME:EEST
DTSTART:20230326T010000
END:DAYLIGHT
BEGIN:STANDARD
TZOFFSETFROM:+0300
TZOFFSETTO:+0200
TZNAME:EET
DTSTART:20231029T010000
END:STANDARD
BEGIN:DAYLIGHT
TZOFFSETFROM:+0200
TZOFFSETTO:+0300
TZNAME:EEST
DTSTART:20240331T010000
END:DAYLIGHT
BEGIN:STANDARD
TZOFFSETFROM:+0300
TZOFFSETTO:+0200
TZNAME:EET
DTSTART:20241027T010000
END:STANDARD
END:VTIMEZONE
BEGIN:VEVENT
DTSTART;VALUE=DATE:20231001
DTEND;VALUE=DATE:20231007
DTSTAMP:20260422T191104
CREATED:20230801T135257Z
LAST-MODIFIED:20230822T092104Z
UID:11915-1696118400-1696636799@www.leichtathletik-lauta.de
SUMMARY:Trainingslager 2023
DESCRIPTION:Trainingslager 2023 – Zinnowitz\nAm Trainingslager 2023 in Zinnowitz vom 01.-06.10.20923 werden teilnehmen:\nTom\, Nela\, Lucy\, Mialena \n  \nViel Spaß!
URL:https://www.leichtathletik-lauta.de/event/trainingslager-2023-zinnowitz/
LOCATION:Zinnowitz\, Mecklenburg Vorpommern\, Deutschland
CATEGORIES:Training
ATTACH;FMTTYPE=image/jpeg:https://www.leichtathletik-lauta.de/wp-content/uploads/2014/10/20140621-_DSF3424.jpg
END:VEVENT
END:VCALENDAR